BEGIN:VCALENDAR
VERSION:2.0
PRODID:-//ChamberMaster//Event Calendar 2.0//EN
METHOD:PUBLISH
X-PUBLISHED-TTL:P3D
REFRESH-INTERVAL:P3D
CALSCALE:GREGORIAN
BEGIN:VEVENT
DTSTART:20260210T143000Z
DTEND:20260210T153000Z
X-MICROSOFT-CDO-ALLDAYEVENT:FALSE
SUMMARY:Board of Directors Meeting
DESCRIPTION:Board of Directors Meeting
X-ALT-DESC;FMTTYPE=text/html:<div style="text-align: center\;"><span style="font-family: tahoma\; font-size: 18px\; text-align: center\;">Board of Directors Meeting</span></div>\n
LOCATION:Town Hall 100 West Eldorado Parkway Little Elm\, TX 75068
UID:e.3567.518
SEQUENCE:3
DTSTAMP:20260421T105957Z
URL:https://business.littleelmchamber.com/events/details/board-of-directors-meeting-02-10-2026-518
END:VEVENT

END:VCALENDAR
