BEGIN:VCALENDAR
VERSION:2.0
PRODID:-//ChamberMaster//Event Calendar 2.0//EN
METHOD:PUBLISH
X-PUBLISHED-TTL:P3D
REFRESH-INTERVAL:P3D
CALSCALE:GREGORIAN
BEGIN:VEVENT
DTSTART:20260317T143000Z
DTEND:20260317T153000Z
X-MICROSOFT-CDO-ALLDAYEVENT:FALSE
SUMMARY:Board of Directors Meeting
DESCRIPTION:Board of Directors Meeting
X-ALT-DESC;FMTTYPE=text/html:<div style="text-align: center\;"><span style="color: rgb(51\, 51\, 51)\; font-family: tahoma\; font-size: 18px\; text-align: center\; background-color: rgb(255\, 255\, 255)\;">Board of Directors Meeting</span><br />\n&nbsp\;</div>\n
LOCATION:The Hub at the Lakefront 104 Hardwicke Lane Little Elm\, TX 75068
UID:e.3567.1530
SEQUENCE:3
DTSTAMP:20260421T043519Z
URL:https://business.littleelmchamber.com/events/details/board-of-directors-meeting-1530
END:VEVENT

END:VCALENDAR
